BEGIN:VCALENDAR
PRODID:-//hacksw/handcal//NONSGML v1.0//EN
VERSION:2.0
METHOD:PUBLISH
BEGIN:VEVENT
DTSTART:20201020T190000Z
DTEND:20201020T200000Z
LOCATION:Zoom Meeting
UID:2016620201020T190000ZCouncil of Excellence Virtual Awards Ceremony &<br>Regional Leadership Day Wrap Up Party
DTSTAMP:20260424T101134Z
DESCRIPTION:\nREGISTRATION FOR THIS EVENT HAS CLOSED.  \n PLEASE EMAIL NAEPC IF YOU ARE INTERESTED IN ATTENDING.\nCONFERENCE@NAEPC.ORG\n ------\n\nThis event is taking place from 3:00 pm - 4:00 pm Eastern Time.\n ------\n\nThis special council leader event will include multiple activities; all councils are encouraged to send at least one board member and the council’s staff executive.  Attend to:\n Hear the best new ideas and concepts relating to membership growth, retention and engagement, creating a compelling sponsorship program, programming, etc. captured during the [Virtual Regional Council Leadership Day Conferences](https://www.naepc.org/content/Regional%20Leadership%20Day) Recognize  those councils that received awards during 2020, including the [Council of Excellence, 5 Star, and Emerging Council Awards](https://www.naepc.org/affiliated-councils/council-of-excellence-award) Receive the 2021 Council of Excellence application and participate in an overview of the application and process provided by the Council Relations Committee \n \n \n \n \n \n
SUMMARY:Council of Excellence Virtual Awards Ceremony &<br>Regional Leadership Day Wrap Up Party - Council / Member Registration Website 
PRIORITY:3
BEGIN:VALARM
TRIGGER:PT18H
ACTION:DISPLAY
DESCRIPTION:Reminder
END:VALARM
END:VEVENT
END:VCALENDAR