BEGIN:VCALENDAR
PRODID:-//hacksw/handcal//NONSGML v1.0//EN
VERSION:2.0
METHOD:PUBLISH
BEGIN:VEVENT
DTSTART:20241217T210000Z
DTEND:20241217T220000Z
LOCATION:Zoom Meeting
UID:2575820241217T210000ZRoundtable: Social Media Basics and your EPC
DTSTAMP:20260423T053847Z
DESCRIPTION:\nThis event takes place from 4:00 pm ET - 5:00 pm ET\n\n\n\n\n \nYou do not need to log in to register; click the blue "Register Now" button below to get started.\n ------\n\nOptions for a social media presence are plentiful and seem to be changing every day. So what’s the best option for your council? Attendees will review the most popular platforms, conversations that should take place before creating a group or social media presence, and “must have” policies and procedures. Attendees will leave with the beginning of a sketch of a social media strategy for their council.\n
SUMMARY:Roundtable: Social Media Basics and your EPC - Council / Member Registration Website 
PRIORITY:3
BEGIN:VALARM
TRIGGER:PT18H
ACTION:DISPLAY
DESCRIPTION:Reminder
END:VALARM
END:VEVENT
END:VCALENDAR