BEGIN:VCALENDAR
PRODID:-//hacksw/handcal//NONSGML v1.0//EN
VERSION:2.0
METHOD:PUBLISH
BEGIN:VEVENT
DTSTART:20260624T190000Z
DTEND:20260624T193000Z
LOCATION:Zoom Meeting
UID:2945120260624T190000ZNAEPC Town Hall
DTSTAMP:20260421T130505Z
DESCRIPTION:\nThis event takes place from 3:00 pm ET - 3:30 pm ET.  Please mark your calendar accordingly.\n \n \n \n\n \n \n \nWho should attend?\n Estate Planning Council Volunteer and Staff Leaders\nAccredited Estate Planner® Designees\n Honorary Members\n \n \n
SUMMARY:NAEPC Town Hall - Council / Member Registration Website 
PRIORITY:3
BEGIN:VALARM
TRIGGER:PT18H
ACTION:DISPLAY
DESCRIPTION:Reminder
END:VALARM
END:VEVENT
END:VCALENDAR